Workbook

Sheet 신규704
A1: 세 입 징 수 액 계 산 서
A2: 2014.01월분(남구) | M2: (단위 : 원) | O2: 전월분 세입징수계산서
E3: 징 수 결 정 액 | G3: 수 납 액 | I3: 환 부 액 | K3: 불 납 결 손 액 | S3: 징수결정액 | T3: 수납액 | U3: 환부액
A4: 과 목 | E4: 본 기 | F4: 본기(월)까지의 | G4: 본 기 | H4: 본기(월)까지의 | I4: 본 기 | J4: 본기(월)까지 | K4: 본 기 | L4: 본기(월)까지 | M4: 미 수 납 액 | O4: 과 목 | S4: 본기(월)까지의 | T4: 본기(월)까지의 | U4: 과오납금
E5: (월) 분 | F5: 누 계 | G5: (월) 분 | H5: 누 계 | I5: (월) 분 | J5: 누 계 | K5: (월) 분 | L5: 누 계 | S5: 누 계 | T5: 누 계 | U5: 누 계
A6: 세 입 합 계 | E6: =SUM(E7+E30+E49) -> 3029748420 | F6: =SUM(F7+F30+F47+F49) -> 3029748420 | G6: =SUM(G7+G30+G47+G49) -> 1550982320 | H6: =SUM(H7+H30+H47+H49) -> 1550982320 | I6: =SUM(I7+I30+I47+I49) -> 372000 | J6: =SUM(J7+J30+J47+J49) -> 372000 | K6: =K49+K47+K30+K7 -> 0 | L6: =L49+L47+L30+L7 -> 0 | M6: =M7+M30+M49 -> 1478766100 | O6: 세 입 합 계 | S6: =SUM(S7,S30,S50,S51,S52) -> 0 | T6: =SUM(T7,T30,T50,T52) -> 0 | U6: =U7+U42 -> 0
A7: 600 하 수 도 사 업 수 익 | E7: =SUM(E8+E27) -> 1266318830 | F7: =SUM(F8+F27) -> 1266318830 | G7: =SUM(G8+G27) -> 1179617650 | H7: =SUM(H8+H27) -> 1179617650 | I7: =I27+I8 -> 372000 | J7: =J27+J8 -> 372000 | K7: =K27+K8 -> 0 | L7: =L27+L8 -> 0 | M7: =M8+M27 -> 86701180 | O7: 600 하 수 도 사 업 수 익 | S7: =S8 -> 0 | T7: =T8 -> 0 | U7: =U8 -> 0
B8: 610 영 업 수 익 | E8: =SUM(E9+E16) -> 1266318830 | F8: =SUM(F9+F16) -> 1266318830 | G8: =SUM(G9+G16) -> 1179617650 | H8: =H9+H16 -> 1179617650 | I8: =I9+I16 -> 372000 | J8: =J9+J16 -> 372000 | K8: =K9+K16 -> 0 | L8: =L9+L16 -> 0 | M8: =M9+M16 -> 86701180 | P8: 610 영 업 수 익 | S8: =S9 -> 0 | T8: =T9 -> 0 | U8: =U9 -> 0
C9: 611 사 용 료 수 입 | E9: =SUM(E10:E15) -> 1266318830 | F9: =SUM(F10:F15) -> 1266318830 | G9: =SUM(G10:G15) -> 1179617650 | H9: =SUM(H10:H15) -> 1179617650 | I9: =SUM(I10:I15) -> 372000 | J9: =SUM(J10:J15) -> 372000 | K9: =SUM(K10:K15) -> 0 | L9: =SUM(L10:L15) -> 0 | M9: =SUM(M10:M15) -> 86701180 | Q9: 611 사 용 료 수 입 | S9: =SUM(S10:S15) -> 0 | T9: =SUM(T10:T15) -> 0 | U9: =SUM(U10:U15) -> 0
D10: 611-01 가 정 용 | E10: ='[3]703'!$M$7 -> 498975640 | F10: =E10+S10 -> 498975640 | G10: =[2]수입월계표!$I$125-I10 -> 454273490 | H10: =SUM(G10+T10) -> 454273490 | I10: ='[1] 수고지분8'!$M$22 -> 372000 | J10: =SUM(I10+U10) -> 372000 | K10: 0 | M10: =F10-H10 -> 44702150 | R10: 611-1 가 정 용
D11: 611-02 업 무 용 | E11: ='[3]703'!$M$8 -> 118475650 | F11: =E11+S11 -> 118475650 | G11: =[2]수입월계표!$I$126 -> 115566190 | H11: =SUM(G11+T11) -> 115566190 | J11: =SUM(I11+U11) -> 0 | M11: =F11-H11 -> 2909460 | R11: 611-2 업 무 용 | U11: 0
D12: 611-03 영 업 용 | E12: ='[3]703'!$M$9 -> 462815720 | F12: =E12+S12 -> 462815720 | G12: =[2]수입월계표!$I$127 -> 418687700 | H12: =SUM(G12+T12) -> 418687700 | J12: 0 | M12: =F12-H12 -> 44128020 | R12: 611-3 영 업 용 | U12: 0
D13: 611-04 욕 탕 용 | E13: ='[3]703'!$M$10 -> 62118100 | F13: =E13+S13 -> 62118100 | G13: =[2]수입월계표!$I$128 -> 55806540 | H13: =SUM(G13+T13) -> 55806540 | J13: =SUM(I13+U13) -> 0 | M13: =F13-H13 -> 6311560 | R13: 611-4 욕 탕 용 | U13: 0
E14: ='[4]1월'!$C$26+'[4]1월'!$H$26 -> 0 | F14: =E14+S14 -> 0 | H14: =SUM(G14+T14) -> 0 | J14: =SUM(I14+U14) -> 0 | M14: =F14-H14 -> 0 | S14: 0 | T14: 0 | U14: 0
D15: 611-6 전용공업용 | E15: ='[3]703'!$M$12 -> 123933720 | F15: =E15+S15 -> 123933720 | G15: =[2]수입월계표!$I$130 -> 135283730 | H15: =SUM(G15+T15) -> 135283730 | J15: =SUM(I15+U15) -> 0 | M15: =F15-H15 -> -11350010 | R15: 611-6 전용공업용 | U15: 0
C16: 613 기타영업수익 | E16: =E17 -> 0 | F16: =E16+S16 -> 0 | G16: =G17 -> 0 | H16: =SUM(H17) -> 0 | I16: =SUM(I17) -> 0 | J16: =SUM(J17) -> 0 | K16: =SUM(K17) -> 0 | L16: =SUM(L17) -> 0 | M16: =F16-H16 -> 0 | Q16: 613 기타영업수익 | S16: 0 | T16: 0 | U16: 0
D17: 613-4 잡 수 입 | E17: 0 | F17: =E17+S17 -> 0 | G17: 0 | H17: =SUM(G17+T17) -> 0 | I17: 0 | J17: =SUM(I17+U17) -> 0 | M17: =F17-H17 -> 0 | R17: 613-4 잡 수 입 | S17: 0 | T17: 0 | U17: 0
M18: (단위 : 원) | S18: 0
E19: 징 수 결 정 액 | G19: 수 납 액 | I19: 환 부 액 | K19: 불납결손액 | S19: 징수결정액 | T19: 수납액 | U19: 환부액
A20: 과 목 | E20: 본 기 | F20: 본기(월)까지의 | G20: 본 기 | H20: 본기(월)까지의 | I20: 본 기 | J20: 본기(월)까지 | K20: 본 기 | L20: 본기(월)까지 | M20: 미수납액 | O20: 과 목 | S20: 본기(월)까지의 | T20: 본기(월)까지의 | U20: 본기(월)까지
E21: (월) 분 | F21: 누 계 | G21: (월) 분 | H21: 누 계 | I21: (월) 분 | J21: 누 계 | K21: (월) 분 | L21: 누 계 | S21: 누 계 | T21: 누 계 | U21: 누 계
C22: 623 기타영업외수익 | E22: =SUM(E23:E26) -> 0 | F22: =SUM(F23:F26) -> 0 | G22: =SUM(G23:G26) -> 0 | H22: =SUM(H23:H26) -> 0 | I22: =SUM(I23:I26) -> 0 | J22: =SUM(J23:J26) -> 0 | K22: =SUM(K23:K26) -> 0 | L22: =SUM(L23:L26) -> 0 | M22: =F22-H22 -> 0 | Q22: 623 기타영업외수익 | S22: 0 | T22: 0 | U22: 0
D23: 623-1 기본재산임대수입 | E23: 0 | G23: 0 | M23: =F23-H23 -> 0 | R23: 623-1 기본재산임대수입
D24: 623-2 불용품매각수입 | E24: 0 | F24: =SUM(E24+S24) -> 0 | G24: 0 | H24: =SUM(G24+S24) -> 0 | M24: =F24-H24 -> 0 | R24: 623-2 불용품매각수입 | S24: 0 | T24: 0
D25: 623-3 변상금 및 위약금 | E25: 0 | G25: 0 | M25: =F25-H25 -> 0 | R25: 623-3 변상금 및 위약금
D26: 623-4 잡수익 | E26: 0 | F26: =SUM(E26+S26) -> 0 | G26: 0 | H26: =SUM(G26+T26) -> 0 | J26: =SUM(I26+U26) -> 0 | M26: =F26-H26 -> 0 | R26: 623-4 잡수익 | S26: 0 | T26: 0 | U26: 0
B27: 630 특별이익 | E27: =E28 -> 0 | F27: =F28 -> 0 | G27: =G28 -> 0 | H27: =H28 -> 0 | I27: =I28 -> 0 | J27: =J28 -> 0 | K27: =K28 -> 0 | L27: =L28 -> 0 | M27: =F27-H27 -> 0 | P27: 630 특별이익 | S27: 0 | T27: 0 | U27: 0
C28: 631전기손익수정이익 | E28: =E29 -> 0 | F28: =F29 -> 0 | G28: =G29 -> 0 | H28: =H29 -> 0 | I28: =I29 -> 0 | J28: =J29 -> 0 | K28: =K29 -> 0 | L28: =L29 -> 0 | M28: =F28-H28 -> 0 | Q28: 631전기손익수정이익 | S28: =S29 -> 0 | T28: =T29 -> 0 | U28: =U29 -> 0
D29: 631-1전기손익수정이익 | E29: 0 | F29: =SUM(E29+S29) -> 0 | G29: 0 | H29: =SUM(G29+T29) -> 0 | J29: =SUM(I29+U29) -> 0 | L29: =SUM(K29+W29) -> 0 | M29: =F29-H29 -> 0 | R29: 631-1전기손익수정이익 | S29: 0 | T29: 0 | U29: 0
A30: 100 자본적수입 | E30: =E41 -> 269588640 | F30: =F41 -> 269588640 | G30: =G41 -> 269588640 | H30: =H36+H31 -> 269588640 | I30: =I36+I31 -> 0 | J30: =J36+J31 -> 0 | K30: =K36+K31 -> 0 | L30: =L36+L31 -> 0 | M30: =M31+M42 -> 0 | O30: 100 자본적수입 | U30: 0
B31: 220 고정부채수입 | H31: =H32+H34 -> 0 | I31: =I32+I34 -> 0 | J31: =J32+J34 -> 0 | K31: =K32+K34 -> 0 | L31: =L32+L34 -> 0 | M31: =F31-H31 -> 0 | P31: 220 고정부채수입 | T31: 0 | U31: 0
C32: 223 지역개발기금 | H32: =H33 -> 0 | I32: =I33 -> 0 | J32: =J33 -> 0 | K32: =K33 -> 0 | L32: =L33 -> 0 | M32: =F32-H32 -> 0 | Q32: 223 지역개발기금 | T32: 0 | U32: 0
D33: 223-1시·도융자금수입 | E33: 0 | F33: =SUM(E33+S33) -> 0 | G33: 0 | H33: =SUM(G33+T33) -> 0 | J33: =SUM(I33+U33) -> 0 | M33: =F33-H33 -> 0 | R33: 223-1 시도융자금수입 | S33: 0 | T33: 0 | U33: 0
C34: 224 재정자금 | E34: 0 | F34: =F35 -> 0 | G34: 0 | H34: =H35 -> 0 | I34: =I35 -> 0 | J34: =J35 -> 0 | K34: =K35 -> 0 | L34: =L35 -> 0 | M34: =F34-H34 -> 0 | Q34: 224 재정자금 | S34: 0 | T34: 0 | U34: 0
D35: 224-1 차입금 | E35: 0 | F35: =SUM(E35+S35) -> 0 | G35: 0 | H35: =SUM(G35+T35) -> 0 | J35: =SUM(I35+U35) -> 0 | M35: =F35-H35 -> 0 | R35: 224-1 차입금 | S35: 0 | T35: 0 | U35: 0
B36: 320 자본잉여금수입 | E36: =E37+E39+E41 -> 269588640 | F36: =F37+F39+F41 -> 269588640 | G36: =G37+G39+G41 -> 269588640 | H36: =H37+H39+H41 -> 269588640 | I36: =I37+I39+I41 -> 0 | J36: =J37+J39+J41 -> 0 | K36: =K37+K39+K41 -> 0 | L36: =L37+L39+L41 -> 0 | M36: =F36-H36 -> 0 | P36: 320 자본잉여금수입
C37: 321 자본잉여금수입 | E37: 0 | F37: =F38 -> 0 | G37: 0 | H37: =H38 -> 0 | I37: =I38 -> 0 | J37: =J38 -> 0 | K37: =K38 -> 0 | L37: =L38 -> 0 | M37: =F37-H37 -> 0 | Q37: 321 자본잉여금수입 | S37: 0 | T37: 0 | U37: 0
E38: 0 | F38: =SUM(E38+S38) -> 0 | G38: 0 | H38: =SUM(G38+T38) -> 0 | J38: =SUM(I38+U38) -> 0 | M38: =F38-H38 -> 0 | S38: 0 | T38: 0 | U38: 0
C39: 322 타회계건설보조금수입 | E39: 0 | F39: =F40 -> 0 | G39: 0 | H39: =H40 -> 0 | I39: =I40 -> 0 | J39: =J40 -> 0 | K39: =K40 -> 0 | L39: =L40 -> 0 | M39: =F39-H39 -> 0 | Q39: 322 타회계건설보조금수입 | S39: 0 | T39: 0 | U39: 0
D40: 322-1 국고보조금 | E40: 0 | F40: =SUM(E40+S40) -> 0 | G40: 0 | H40: =SUM(G40+T40) -> 0 | I40: 0 | J40: =SUM(I40+U40) -> 0 | M40: =F40-H40 -> 0 | R40: 322-1 국고보조금 | S40: 0 | T40: 0 | U40: 0
...
