Workbook

Sheet 신규704
A1: 세 입 징 수 액 계 산 서
A2: 2014.01월분(남구) | M2: (단위 : 원) | O2: 전월분 세입징수계산서
E3: 징 수 결 정 액 | G3: 수 납 액 | I3: 환 부 액 | K3: 불 납 결 손 액 | S3: 징수결정액 | T3: 수납액 | U3: 환부액
A4: 과 목 | E4: 본 기 | F4: 본기(월)까지의 | G4: 본 기 | H4: 본기(월)까지의 | I4: 본 기 | J4: 본기(월)까지 | K4: 본 기 | L4: 본기(월)까지 | M4: 미 수 납 액 | O4: 과 목 | S4: 본기(월)까지의 | T4: 본기(월)까지의 | U4: 과오납금
E5: (월) 분 | F5: 누 계 | G5: (월) 분 | H5: 누 계 | I5: (월) 분 | J5: 누 계 | K5: (월) 분 | L5: 누 계 | S5: 누 계 | T5: 누 계 | U5: 누 계
A6: 세 입 합 계 | E6: =SUM(E7+E30+E49) -> 3029748420 | F6: =SUM(F7+F30+F47+F49) -> 3029748420 | G6: =SUM(G7+G30+G47+G49) -> 1550982320 | H6: =SUM(H7+H30+H47+H49) -> 1550982320 | I6: =SUM(I7+I30+I47+I49) -> 372000 | J6: =SUM(J7+J30+J47+J49) -> 372000 | K6: =K49+K47+K30+K7 -> 0 | L6: =L49+L47+L30+L7 -> 0 | M6: =M7+M30+M49 -> 1478766100 | O6: 세 입 합 계 | S6: =SUM(S7,S30,S50,S51,S52) -> 0 | T6: =SUM(T7,T30,T50,T52) -> 0 | U6: =U7+U42 -> 0
A7: 600 하 수 도 사 업 수 익 | E7: =SUM(E8+E27) -> 1266318830 | F7: =SUM(F8+F27) -> 1266318830 | G7: =SUM(G8+G27) -> 1179617650 | H7: =SUM(H8+H27) -> 1179617650 | I7: =I27+I8 -> 372000 | J7: =J27+J8 -> 372000 | K7: =K27+K8 -> 0 | L7: =L27+L8 -> 0 | M7: =M8+M27 -> 86701180 | O7: 600 하 수 도 사 업 수 익 | S7: =S8 -> 0 | T7: =T8 -> 0 | U7: =U8 -> 0
B8: 610 영 업 수 익 | E8: =SUM(E9+E16) -> 1266318830 | F8: =SUM(F9+F16) -> 1266318830 | G8: =SUM(G9+G16) -> 1179617650 | H8: =H9+H16 -> 1179617650 | I8: =I9+I16 -> 372000 | J8: =J9+J16 -> 372000 | K8: =K9+K16 -> 0 | L8: =L9+L16 -> 0 | M8: =M9+M16 -> 86701180 | P8: 610 영 업 수 익 | S8: =S9 -> 0 | T8: =T9 -> 0 | U8: =U9 -> 0
C9: 611 사 용 료 수 입 | E9: =SUM(E10:E15) -> 1266318830 | F9: =SUM(F10:F15) -> 1266318830 | G9: =SUM(G10:G15) -> 1179617650 | H9: =SUM(H10:H15) -> 1179617650 | I9: =SUM(I10:I15) -> 372000 | J9: =SUM(J10:J15) -> 372000 | K9: =SUM(K10:K15) -> 0 | L9: =SUM(L10:L15) -> 0 | M9: =SUM(M10:M15) -> 86701180 | Q9: 611 사 용 료 수 입 | S9: =SUM(S10:S15) -> 0 | T9: =SUM(T10:T15) -> 0 | U9: =SUM(U10:U15) -> 0
D10: 611-01 가 정 용 | E10: ='[3]703'!$M$7 -> 498975640 | F10: =E10+S10 -> 498975640 | G10: =[2]수입월계표!$I$125-I10 -> 454273490 | H10: =SUM(G10+T10) -> 454273490 | I10: ='[1] 수고지분8'!$M$22 -> 372000 | J10: =SUM(I10+U10) -> 372000 | K10: 0 | M10: =F10-H10 -> 44702150 | R10: 611-1 가 정 용
D11: 611-02 업 무 용 | E11: ='[3]703'!$M$8 -> 118475650 | F11: =E11+S11 -> 118475650 | G11: =[2]수입월계표!$I$126 -> 115566190 | H11: =SUM(G11+T11) -> 115566190 | J11: =SUM(I11+U11) -> 0 | M11: =F11-H11 -> 2909460 | R11: 611-2 업 무 용 | U11: 0
D12: 611-03 영 업 용 | E12: ='[3]703'!$M$9 -> 462815720 | F12: =E12+S12 -> 462815720 | G12: =[2]수입월계표!$I$127 -> 418687700 | H12: =SUM(G12+T12) -> 418687700 | J12: 0 | M12: =F12-H12 -> 44128020 | R12: 611-3 영 업 용 | U12: 0
D13: 611-04 욕 탕 용 | E13: ='[3]703'!$M$10 -> 62118100 | F13: =E13+S13 -> 62118100 | G13: =[2]수입월계표!$I$128 -> 55806540 | H13: =SUM(G13+T13) -> 55806540 | J13: =SUM(I13+U13) -> 0 | M13: =F13-H13 -> 6311560 | R13: 611-4 욕 탕 용 | U13: 0
E14: ='[4]1월'!$C$26+'[4]1월'!$H$26 -> 0 | F14: =E14+S14 -> 0 | H14: =SUM(G14+T14) -> 0 | J14: =SUM(I14+U14) -> 0 | M14: =F14-H14 -> 0 | S14: 0 | T14: 0 | U14: 0
D15: 611-6 전용공업용 | E15: ='[3]703'!$M$12 -> 123933720 | F15: =E15+S15 -> 123933720 | G15: =[2]수입월계표!$I$130 -> 135283730 | H15: =SUM(G15+T15) -> 135283730 | J15: =SUM(I15+U15) -> 0 | M15: =F15-H15 -> -11350010 | R15: 611-6 전용공업용 | U15: 0
C16: 613 기타영업수익 | E16: =E17 -> 0 | F16: =E16+S16 -> 0 | G16: =G17 -> 0 | H16: =SUM(H17) -> 0 | I16: =SUM(I17) -> 0 | J16: =SUM(J17) -> 0 | K16: =SUM(K17) -> 0 | L16: =SUM(L17) -> 0 | M16: =F16-H16 -> 0 | Q16: 613 기타영업수익 | S16: 0 | T16: 0 | U16: 0
D17: 613-4 잡 수 입 | E17: 0 | F17: =E17+S17 -> 0 | G17: 0 | H17: =SUM(G17+T17) -> 0 | I17: 0 | J17: =SUM(I17+U17) -> 0 | M17: =F17-H17 -> 0 | R17: 613-4 잡 수 입 | S17: 0 | T17: 0 | U17: 0
M18: (단위 : 원) | S18: 0
E19: 징 수 결 정 액 | G19: 수 납 액 | I19: 환 부 액 | K19: 불납결손액 | S19: 징수결정액 | T19: 수납액 | U19: 환부액
A20: 과 목 | E20: 본 기 | F20: 본기(월)까지의 | G20: 본 기 | H20: 본기(월)까지의 | I20: 본 기 | J20: 본기(월)까지 | K20: 본 기 | L20: 본기(월)까지 | M20: 미수납액 | O20: 과 목 | S20: 본기(월)까지의 | T20: 본기(월)까지의 | U20: 본기(월)까지
E21: (월) 분 | F21: 누 계 | G21: (월) 분 | H21: 누 계 | I21: (월) 분 | J21: 누 계 | K21: (월) 분 | L21: 누 계 | S21: 누 계 | T21: 누 계 | U21: 누 계
C22: 623 기타영업외수익 | E22: =SUM(E23:E26) -> 0 | F22: =SUM(F23:F26) -> 0 | G22: =SUM(G23:G26) -> 0 | H22: =SUM(H23:H26) -> 0 | I22: =SUM(I23:I26) -> 0 | J22: =SUM(J23:J26) -> 0 | K22: =SUM(K23:K26) -> 0 | L22: =SUM(L23:L26) -> 0 | M22: =F22-H22 -> 0 | Q22: 623 기타영업외수익 | S22: 0 | T22: 0 | U22: 0
D23: 623-1 기본재산임대수입 | E23: 0 | G23: 0 | M23: =F23-H23 -> 0 | R23: 623-1 기본재산임대수입
D24: 623-2 불용품매각수입 | E24: 0 | F24: =SUM(E24+S24) -> 0 | G24: 0 | H24: =SUM(G24+S24) -> 0 | M24: =F24-H24 -> 0 | R24: 623-2 불용품매각수입 | S24: 0 | T24: 0
D25: 623-3 변상금 및 위약금 | E25: 0 | G25: 0 | M25: =F25-H25 -> 0 | R25: 623-3 변상금 및 위약금
D26: 623-4 잡수익 | E26: 0 | F26: =SUM(E26+S26) -> 0 | G26: 0 | H26: =SUM(G26+T26) -> 0 | J26: =SUM(I26+U26) -> 0 | M26: =F26-H26 -> 0 | R26: 623-4 잡수익 | S26: 0 | T26: 0 | U26: 0
B27: 630 특별이익 | E27: =E28 -> 0 | F27: =F28 -> 0 | G27: =G28 -> 0 | H27: =H28 -> 0 | I27: =I28 -> 0 | J27: =J28 -> 0 | K27: =K28 -> 0 | L27: =L28 -> 0 | M27: =F27-H27 -> 0 | P27: 630 특별이익 | S27: 0 | T27: 0 | U27: 0
C28: 631전기손익수정이익 | E28: =E29 -> 0 | F28: =F29 -> 0 | G28: =G29 -> 0 | H28: =H29 -> 0 | I28: =I29 -> 0 | J28: =J29 -> 0 | K28: =K29 -> 0 | L28: =L29 -> 0 | M28: =F28-H28 -> 0 | Q28: 631전기손익수정이익 | S28: =S29 -> 0 | T28: =T29 -> 0 | U28: =U29 -> 0
D29: 631-1전기손익수정이익 | E29: 0 | F29: =SUM(E29+S29) -> 0 | G29: 0 | H29: =SUM(G29+T29) -> 0 | J29: =SUM(I29+U29) -> 0 | L29: =SUM(K29+W29) -> 0 | M29: =F29-H29 -> 0 | R29: 631-1전기손익수정이익 | S29: 0 | T29: 0 | U29: 0
A30: 100 자본적수입 | E30: =E41 -> 269588640 | F30: =F41 -> 269588640 | G30: =G41 -> 269588640 | H30: =H36+H31 -> 269588640 | I30: =I36+I31 -> 0 | J30: =J36+J31 -> 0 | K30: =K36+K31 -> 0 | L30: =L36+L31 -> 0 | M30: =M31+M42 -> 0 | O30: 100 자본적수입 | U30: 0
B31: 220 고정부채수입 | H31: =H32+H34 -> 0 | I31: =I32+I34 -> 0 | J31: =J32+J34 -> 0 | K31: =K32+K34 -> 0 | L31: =L32+L34 -> 0 | M31: =F31-H31 -> 0 | P31: 220 고정부채수입 | T31: 0 | U31: 0
C32: 223 지역개발기금 | H32: =H33 -> 0 | I32: =I33 -> 0 | J32: =J33 -> 0 | K32: =K33 -> 0 | L32: =L33 -> 0 | M32: =F32-H32 -> 0 | Q32: 223 지역개발기금 | T32: 0 | U32: 0
D33: 223-1시·도융자금수입 | E33: 0 | F33: =SUM(E33+S33) -> 0 | G33: 0 | H33: =SUM(G33+T33) -> 0 | J33: =SUM(I33+U33) -> 0 | M33: =F33-H33 -> 0 | R33: 223-1 시도융자금수입 | S33: 0 | T33: 0 | U33: 0
C34: 224 재정자금 | E34: 0 | F34: =F35 -> 0 | G34: 0 | H34: =H35 -> 0 | I34: =I35 -> 0 | J34: =J35 -> 0 | K34: =K35 -> 0 | L34: =L35 -> 0 | M34: =F34-H34 -> 0 | Q34: 224 재정자금 | S34: 0 | T34: 0 | U34: 0
D35: 224-1 차입금 | E35: 0 | F35: =SUM(E35+S35) -> 0 | G35: 0 | H35: =SUM(G35+T35) -> 0 | J35: =SUM(I35+U35) -> 0 | M35: =F35-H35 -> 0 | R35: 224-1 차입금 | S35: 0 | T35: 0 | U35: 0
B36: 320 자본잉여금수입 | E36: =E37+E39+E41 -> 269588640 | F36: =F37+F39+F41 -> 269588640 | G36: =G37+G39+G41 -> 269588640 | H36: =H37+H39+H41 -> 269588640 | I36: =I37+I39+I41 -> 0 | J36: =J37+J39+J41 -> 0 | K36: =K37+K39+K41 -> 0 | L36: =L37+L39+L41 -> 0 | M36: =F36-H36 -> 0 | P36: 320 자본잉여금수입
C37: 321 자본잉여금수입 | E37: 0 | F37: =F38 -> 0 | G37: 0 | H37: =H38 -> 0 | I37: =I38 -> 0 | J37: =J38 -> 0 | K37: =K38 -> 0 | L37: =L38 -> 0 | M37: =F37-H37 -> 0 | Q37: 321 자본잉여금수입 | S37: 0 | T37: 0 | U37: 0
E38: 0 | F38: =SUM(E38+S38) -> 0 | G38: 0 | H38: =SUM(G38+T38) -> 0 | J38: =SUM(I38+U38) -> 0 | M38: =F38-H38 -> 0 | S38: 0 | T38: 0 | U38: 0
C39: 322 타회계건설보조금수입 | E39: 0 | F39: =F40 -> 0 | G39: 0 | H39: =H40 -> 0 | I39: =I40 -> 0 | J39: =J40 -> 0 | K39: =K40 -> 0 | L39: =L40 -> 0 | M39: =F39-H39 -> 0 | Q39: 322 타회계건설보조금수입 | S39: 0 | T39: 0 | U39: 0
D40: 322-1 국고보조금 | E40: 0 | F40: =SUM(E40+S40) -> 0 | G40: 0 | H40: =SUM(G40+T40) -> 0 | I40: 0 | J40: =SUM(I40+U40) -> 0 | M40: =F40-H40 -> 0 | R40: 322-1 국고보조금 | S40: 0 | T40: 0 | U40: 0
C41: 323 공사부담금 | E41: =E42 -> 269588640 | F41: =F42 -> 269588640 | G41: =G42 -> 269588640 | H41: =H42 -> 269588640 | I41: =I42 -> 0 | J41: =J42 -> 0 | K41: =K42 -> 0 | L41: =L42 -> 0 | M41: =F41-H41 -> 0 | Q41: 323 공사부담금 | U41: 0
D42: 323-3 기타공사부담금 | E42: 269588640 | F42: =E42+S42 -> 269588640 | G42: 269588640 | H42: =SUM(G42+T42) -> 269588640 | J42: =SUM(I42+U42) -> 0 | M42: =F42-H42 -> 0 | R42: 323-1 기타공사부담금
M43: (단위 : 원)
E44: 징 수 결 정 액 | G44: 수 납 액 | I44: 환 부 액 | K44: 불납결손액 | S44: 징수결정액 | T44: 수납액 | U44: 환부액
A45: 과 목 | E45: 본 기 | F45: 본기(월)까지의 | G45: 본 기 | H45: 본기(월)까지의 | I45: 본 기 | J45: 본기(월)까지 | K45: 본 기 | L45: 본기(월)까지 | M45: 미수납액 | O45: 과 목 | S45: 본기(월)까지의 | T45: 본기(월)까지의 | U45: 본기(월)까지
E46: (월) 분 | F46: 누 계 | G46: (월) 분 | H46: 누 계 | I46: (월) 분 | J46: 누 계 | K46: (월) 분 | L46: 누 계 | S46: 누 계 | T46: 누 계 | U46: 누 계
A47: 이 월 금 | F47: 0 | H47: 0 | M47: =F47-H47 -> 0 | O47: 이 월 금 | S47: 0 | T47: 0
E48: 0 | G48: 0
A49: 과 년 도 미 수 금 | E49: =SUM(E50:E52) -> 1493840950 | F49: =SUM(F50:F52) -> 1493840950 | G49: =SUM(G50:G52) -> 101776030 | H49: =SUM(H50,H52) -> 101776030 | I49: =SUM(I50:I70) -> 0 | J49: =SUM(I49,V49) -> 0 | K49: =K50+K52 -> 0 | L49: =L50+L52 -> 0 | M49: =SUM(M50:M52) -> 1392064920 | O49: 과 년 도 미 수 금 | S49: =SUM(S47:S48,S50,S51,S52) -> 0 | U49: 0
B50: 2013년원인자부담금 | E50: 0 | F50: 0 | G50: 0 | H50: =SUM(G50+T50) -> 0 | J50: =SUM(I50+W50) -> 0 | M50: =F50-H50-L50 -> 0 | P50: 2013년원인자부담금 미수금 | S50: 0 | U50: 0
B51: 2013년이전원인자부담금 | E51: 657741400 | F51: 657741400 | G51: 0 | H51: =SUM(G51+T51) -> 0 | J51: =SUM(I51+W51) -> 0 | L51: =K51 -> 0 | M51: =F51-H51-L51 -> 657741400 | P51: 2013년이전원인자부담금 미수금 | S51: 0 | U51: 0
B52: 소계 | E52: =SUM(E53:E71) -> 836099550 | F52: =SUM(F53:F71) -> 836099550 | G52: =SUM(G53:G71) -> 101776030 | H52: =SUM(G52+T52) -> 101776030 | J52: =SUM(I52+V52) -> 0 | K52: =SUM(K53:K71) -> 0 | L52: =SUM(L53:L71) -> 0 | M52: =F52-H52-L52 -> 734323520 | P52: 소계 | S52: =SUM(S54:S71) -> 0 | U52: =SUM(U55:U70) -> 0
B53: 2013년도 미수금 | E53: 396892700 | F53: =E53+S53 -> 396892700 | G53: 101526310 | H53: =G53+T53 -> 101526310 | J53: =SUM(I53+V53) -> 0 | L53: 0 | M53: =F53-H53-L53 -> 295366390 | P53: 2013년도 미수금 | S53: 0 | T53: 0 | U53: 0
B54: 2012년도 미수금 | E54: 72982960 | F54: =E54+S54 -> 72982960 | G54: 247130 | H54: =G54+T54 -> 247130 | J54: =SUM(I54+V54) -> 0 | L54: 0 | M54: =F54-H54-L54 -> 72735830 | P54: 2012년도 미수금 | S54: 0 | T54: 0 | U54: 0
B55: 2011년도 미수금 | E55: 65801160 | F55: =E55+S55 -> 65801160 | G55: 0 | H55: =G55+T55 -> 0 | J55: =SUM(I55+V55) -> 0 | L55: 0 | M55: =F55-H55-L55 -> 65801160 | P55: 2011년도 미수금 | S55: 0 | T55: 0 | U55: 0
B56: 2010년도 미수금 | E56: 130414270 | F56: =E56+S56 -> 130414270 | G56: 0 | H56: =SUM(G56+T56) -> 0 | J56: =SUM(I56+V56) -> 0 | L56: 0 | M56: =F56-H56-L56 -> 130414270 | P56: 2010년도 미수금 | S56: 0 | T56: 0 | U56: 0
B57: 2009년도 미수금 | E57: 85287360 | F57: =E57+S57 -> 85287360 | G57: 0 | H57: =SUM(G57+T57) -> 0 | J57: =SUM(I57+V57) -> 0 | L57: 0 | M57: =F57-H57-L57 -> 85287360 | P57: 2009년도 미수금 | S57: 0 | T57: 0 | U57: 0
B58: 2008년도 미수금 | E58: 898590 | F58: =E58+S58 -> 898590 | G58: 2460 | H58: =SUM(G58+T58) -> 2460 | J58: =SUM(I58+V58) -> 0 | L58: 0 | M58: =F58-H58-L58 -> 896130 | P58: 2008년도 미수금 | S58: 0 | T58: 0 | U58: 0
B59: 2007년도 미수금 | E59: 9913980 | F59: =E59+S59 -> 9913980 | G59: 130 | H59: =SUM(G59+T59) -> 130 | J59: =SUM(I59+V59) -> 0 | L59: 0 | M59: =F59-H59-L59 -> 9913850 | P59: 2007년도 미수금 | S59: 0 | T59: 0 | U59: 0
B60: 2006년도 미수금 | E60: 23787880 | F60: =E60+S60 -> 23787880 | H60: =SUM(G60+T60) -> 0 | J60: =SUM(I60+V60) -> 0 | L60: 0 | M60: =F60-H60-L60 -> 23787880 | P60: 2006년도 미수금 | S60: 0 | T60: 0 | U60: 0
B61: 2005년도 미수금 | E61: 23016270 | F61: =E61+S61 -> 23016270 | H61: =SUM(G61+T61) -> 0 | J61: =SUM(I61+V61) -> 0 | L61: 0 | M61: =F61-H61-L61 -> 23016270 | P61: 2005년도 미수금 | S61: 0 | T61: 0 | U61: 0
B62: 2004년도 미수금 | E62: 27104380 | F62: =E62+S62 -> 27104380 | H62: =SUM(G62+T62) -> 0 | J62: =SUM(I62+V62) -> 0 | L62: 0 | M62: =F62-H62-L62 -> 27104380 | P62: 2004년도 미수금 | S62: 0 | T62: 0 | U62: 0
B63: 2003년도 미수금 | F63: 0 | H63: =SUM(G63+T63) -> 0 | J63: =SUM(I63+V63) -> 0 | L63: 0 | M63: =F63-H63-L63 -> 0 | P63: 2003년도 미수금 | S63: =F63 -> 0 | T63: 0 | U63: 0
F64: 0 | H64: =SUM(G64+T64) -> 0 | J64: =SUM(I64+V64) -> 0 | L64: 0 | M64: =F64-H64-L64 -> 0 | P64: '97년도 미수금 | S64: =F64 -> 0 | T64: 0 | U64: 0
F65: 0 | H65: =SUM(G65+T65) -> 0 | J65: =SUM(I65+V65) -> 0 | L65: 0 | M65: =F65-H65-L65 -> 0 | P65: '96년도 미수금 | S65: =F65 -> 0 | T65: 0 | U65: 0
F66: 0 | H66: =SUM(G66+T66) -> 0 | J66: =SUM(I66+V66) -> 0 | L66: 0 | M66: =F66-H66-L66 -> 0 | P66: '95년도 미수금 | S66: =F66 -> 0 | T66: 0 | U66: 0
F67: 0 | H67: =SUM(G67+T67) -> 0 | J67: =SUM(I67+V67) -> 0 | L67: 0 | M67: =F67-H67-L67 -> 0 | P67: '94년도 미수금 | S67: =F67 -> 0 | T67: 0 | U67: 0
F68: 0 | H68: =SUM(G68+T68) -> 0 | J68: =SUM(I68+V68) -> 0 | L68: 0 | M68: =F68-H68-L68 -> 0 | P68: '93년도 미수금 | S68: =F68 -> 0 | T68: 0 | U68: 0
F69: 0 | H69: =SUM(G69+T69) -> 0 | J69: =SUM(I69+V69) -> 0 | L69: 0 | M69: =F69-H69-L69 -> 0 | P69: '92년도 미수금 | S69: =F69 -> 0 | T69: 0 | U69: 0
F70: 0 | H70: =SUM(G70+T70) -> 0 | J70: =SUM(I70+V70) -> 0 | L70: 0 | M70: =F70-H70-L70 -> 0 | P70: '91년도 미수금 | S70: =F70 -> 0 | T70: 0 | U70: 0
F71: 0 | H71: =SUM(G71+T71) -> 0 | J71: =SUM(I71+V71) -> 0 | K71: 0 | L71: 0 | M71: =F71-H71-L71 -> 0 | P71: '90년도 미수금 | S71: =F71 -> 0 | T71: 0 | U71: 0
H72: =SUM(G72+T72) -> 0 | T72: 0
